BEGIN:VCALENDAR
VERSION:2.0
PRODID: -//CMS 5.0 //NONSGML //DE
BEGIN:VEVENT
SUMMARY:Gottesdienst durch Bezirksevangelist Bernd Schulz
DESCRIPTION:
UID:19644@www.nak-stuttgart-fellbach.de
LOCATION:S-Untertürkheim
CATEGORIES:Gottesdienst,Stuttgart-Untertürkheim
X-ORGANIZER:
STATUS:CONFIRMED
CLASS:PUBLIC
DTSTART:20260506T180000Z
DTEND:20260506T180000Z
DTSTAMP:20260422T123322Z
CREATED:20160516T122514Z
LAST-MODIFIED:20260420T083715Z
END:VEVENT
BEGIN:VEVENT
SUMMARY:Gottesdienst durch Bezirksevangelist Bernd Schulz
DESCRIPTION:
UID:19645@www.nak-stuttgart-fellbach.de
LOCATION:S-Ost
CATEGORIES:Gottesdienst,Stuttgart-Ost
X-ORGANIZER:
STATUS:CONFIRMED
CLASS:PUBLIC
DTSTART:20260510T073000Z
DTEND:20260510T073000Z
DTSTAMP:20260422T123322Z
CREATED:20160516T122627Z
LAST-MODIFIED:20260420T083923Z
END:VEVENT
BEGIN:VEVENT
SUMMARY:Gottesdienst durch Bezirksevangelist Bernd Schulz
DESCRIPTION:
UID:66714@www.nak-stuttgart-fellbach.de
LOCATION:S-Sillenbuch
CATEGORIES:Stuttgart-Sillenbuch,Gottesdienst
X-ORGANIZER:
STATUS:CONFIRMED
CLASS:PUBLIC
DTSTART:20260423T180000Z
DTEND:20260423T180000Z
DTSTAMP:20260422T123322Z
CREATED:20160919T070247Z
LAST-MODIFIED:20260320T083612Z
END:VEVENT
BEGIN:VEVENT
SUMMARY:Gottesdienst durch Bezirksältester Bernd Rinderknecht
DESCRIPTION:
UID:90839@www.nak-stuttgart-fellbach.de
LOCATION:O-Ruit
CATEGORIES:Ostfildern-Ruit,Gottesdienst
X-ORGANIZER:
STATUS:CONFIRMED
CLASS:PUBLIC
DTSTART:20260510T073000Z
DTEND:20260510T073000Z
DTSTAMP:20260422T123322Z
CREATED:20170223T061401Z
LAST-MODIFIED:20260420T084708Z
END:VEVENT
BEGIN:VEVENT
SUMMARY:Bezirksjugendgottesdienst
DESCRIPTION:
UID:90841@www.nak-stuttgart-fellbach.de
LOCATION:K-Stetten
CATEGORIES:Bezirk (und alle Gemeinden)
X-ORGANIZER:
STATUS:CONFIRMED
CLASS:PUBLIC
DTSTART:20260520T180000Z
DTEND:20260520T180000Z
DTSTAMP:20260422T123322Z
CREATED:20170223T061904Z
LAST-MODIFIED:20260420T091307Z
END:VEVENT
BEGIN:VEVENT
SUMMARY:Gottesdienst durch Apostel Jürgen Loy und Bischof Matthias Grau
 er
DESCRIPTION:<p>Die &nbsp;Gemeinden K-Stetten und&nbsp;W-Endersbach sind 
 nach K-Rommelshausen eingeladen</p>\n
UID:97742@www.nak-stuttgart-fellbach.de
LOCATION:K-Rommelshausen
CATEGORIES:Weinstadt-Endersbach,Gottesdienst,Kernen-Stetten i.R.,Kernen-Rommelshausen
X-ORGANIZER:
STATUS:CONFIRMED
CLASS:PUBLIC
DTSTART:20260517T073000Z
DTEND:20260517T073000Z
DTSTAMP:20260422T123322Z
CREATED:20170422T071140Z
LAST-MODIFIED:20260420T090938Z
END:VEVENT
BEGIN:VEVENT
SUMMARY:Christi Himmelfahrt - Gottesdienst
DESCRIPTION:<p>anstelle des Gottesdienstes am Mittwoch</p>\n
UID:97864@www.nak-stuttgart-fellbach.de
LOCATION:alle Gemeinden
CATEGORIES:Gottesdienst,Bezirk (ohne Gemeinden),Stuttgart-Ost,Stuttgart-Untertürkheim,Kernen-Rommelshausen,Stuttgart-Sillenbuch,Weinstadt-Endersbach,Ostfildern-Ruit,Kernen-Stetten i.R.,Stuttgart-West,Stuttgart-Rohracker,Aichwald
X-ORGANIZER:
STATUS:CONFIRMED
CLASS:PUBLIC
DTSTART:20260514T073000Z
DTEND:20260514T073000Z
DTSTAMP:20260422T123322Z
CREATED:20170422T150942Z
LAST-MODIFIED:20260420T085727Z
END:VEVENT
BEGIN:VEVENT
SUMMARY:Event Tag: Jugendausflug
DESCRIPTION:
UID:98860@www.nak-stuttgart-fellbach.de
LOCATION:
CATEGORIES:Bezirk (und alle Gemeinden)
X-ORGANIZER:
STATUS:CONFIRMED
CLASS:PUBLIC
DTSTART;VALUE=DATE:20260516
DTEND;VALUE=DATE:20260517
DTSTAMP:20260422T123322Z
CREATED:20170427T072937Z
LAST-MODIFIED:20260420T090011Z
END:VEVENT
BEGIN:VEVENT
SUMMARY:Probe Seniorenchor
DESCRIPTION:
UID:102385@www.nak-stuttgart-fellbach.de
LOCATION:Waiblingen
CATEGORIES:Bezirk (und alle Gemeinden)
X-ORGANIZER:
STATUS:CONFIRMED
CLASS:PUBLIC
DTSTART:20260504T160000Z
DTEND:20260504T160000Z
DTSTAMP:20260422T123322Z
CREATED:20170525T113719Z
LAST-MODIFIED:20260420T084328Z
END:VEVENT
BEGIN:VEVENT
SUMMARY:Probe Seniorenchor
DESCRIPTION:<p>Bezirke Stuttgart/Fellbach und S-Bad Cannstatt</p>\n
UID:104265@www.nak-stuttgart-fellbach.de
LOCATION:Waiblingen
CATEGORIES:Senioren,Bezirk (und alle Gemeinden)
X-ORGANIZER:
STATUS:CONFIRMED
CLASS:PUBLIC
DTSTART:20260413T160000Z
DTEND:20260413T160000Z
DTSTAMP:20260422T123322Z
CREATED:20170624T092835Z
LAST-MODIFIED:20260320T092906Z
END:VEVENT
BEGIN:VEVENT
SUMMARY:Jugendtreff
DESCRIPTION:
UID:104275@www.nak-stuttgart-fellbach.de
LOCATION:Fellbach
CATEGORIES:Bezirk (und alle Gemeinden)
X-ORGANIZER:
STATUS:CONFIRMED
CLASS:PUBLIC
DTSTART:20260504T180000Z
DTEND:20260504T180000Z
DTSTAMP:20260422T123322Z
CREATED:20170624T093430Z
LAST-MODIFIED:20260420T084127Z
END:VEVENT
BEGIN:VEVENT
SUMMARY:Gospelkirchentag auf dem Schlossplatz in Stuttgart - 
DESCRIPTION:<p>Konzert mit dem Süddeutschen Jugendchor</p>\n
UID:120535@www.nak-stuttgart-fellbach.de
LOCATION:Schlossplatz Stuttgart
CATEGORIES:Bezirk (und alle Gemeinden)
X-ORGANIZER:
STATUS:CONFIRMED
CLASS:PUBLIC
DTSTART:20260502T153000Z
DTEND:20260502T153000Z
DTSTAMP:20260422T123322Z
CREATED:20171228T101254Z
LAST-MODIFIED:20260420T083900Z
END:VEVENT
BEGIN:VEVENT
SUMMARY:Probe  des Bezirksorchesters
DESCRIPTION:
UID:120544@www.nak-stuttgart-fellbach.de
LOCATION:Waiblingen
CATEGORIES:Bezirk (und alle Gemeinden)
X-ORGANIZER:
STATUS:CONFIRMED
CLASS:PUBLIC
DTSTART:20260508T170000Z
DTEND:20260508T170000Z
DTSTAMP:20260422T123322Z
CREATED:20171228T101859Z
LAST-MODIFIED:20260420T084520Z
END:VEVENT
BEGIN:VEVENT
SUMMARY:Auftakt Konfirmandenunterricht 2027/2028 für die Bezirke Stuttg
 art/Fellbach und Stuttgart-Bad Cannstatt 
DESCRIPTION:<p>Eingeladen sind die Konfirmanden 2027 und 2028 mit Eltern
  und Lehrern.</p>\n
UID:139030@www.nak-stuttgart-fellbach.de
LOCATION:Fellbach
CATEGORIES:Bezirk (und alle Gemeinden),Kinder
X-ORGANIZER:
STATUS:CONFIRMED
CLASS:PUBLIC
DTSTART:20260511T170000Z
DTEND:20260511T170000Z
DTSTAMP:20260422T123322Z
CREATED:20180417T090115Z
LAST-MODIFIED:20260420T085241Z
END:VEVENT
BEGIN:VEVENT
SUMMARY:Gottesdienst durch Priester Steffen Schober
DESCRIPTION:<p>Die Gemeinden&nbsp;Aichwald, K-Stetten, K-Rommelshausen u
 nd W-Endersbach sind nach&nbsp;W-Beutelsbach eingeladen.</p>\n
UID:141848@www.nak-stuttgart-fellbach.de
LOCATION:W-Beutelsbach
CATEGORIES:Kernen-Rommelshausen,Weinstadt-Beutelsbach,Gottesdienst,Weinstadt-Endersbach,Kernen-Stetten i.R.
X-ORGANIZER:
STATUS:CONFIRMED
CLASS:PUBLIC
DTSTART:20260426T073000Z
DTEND:20260426T073000Z
DTSTAMP:20260422T123322Z
CREATED:20180518T102647Z
LAST-MODIFIED:20260320T100831Z
END:VEVENT
BEGIN:VEVENT
SUMMARY:Gottesdienst durch Bezirksevangelist Bernd Schulz
DESCRIPTION:
UID:189750@www.nak-stuttgart-fellbach.de
LOCATION:K-Stetten
CATEGORIES:Kernen-Stetten i.R.,Gottesdienst
X-ORGANIZER:
STATUS:CONFIRMED
CLASS:PUBLIC
DTSTART:20260408T180000Z
DTEND:20260408T180000Z
DTSTAMP:20260422T123322Z
CREATED:20191117T113318Z
LAST-MODIFIED:20260320T083031Z
END:VEVENT
BEGIN:VEVENT
SUMMARY:Pfingsten - Gottesdienst durch Stammapostel Jean Luc Schneider
DESCRIPTION:<p>Übertragung&nbsp;aus Kapstadt</p>\n
UID:205380@www.nak-stuttgart-fellbach.de
LOCATION:alle Gemeinden
CATEGORIES:Bezirk (und alle Gemeinden)
X-ORGANIZER:
STATUS:CONFIRMED
CLASS:PUBLIC
DTSTART:20260524T080000Z
DTEND:20260524T080000Z
DTSTAMP:20260422T123322Z
CREATED:20200404T134047Z
LAST-MODIFIED:20260421T161243Z
END:VEVENT
BEGIN:VEVENT
SUMMARY:Christi - Himmelfahrt Gottesdienst durch Bezirksevangelist Bernd
  Schulz
DESCRIPTION:<p>Gottesdienst mit Silberhochzeit</p>\n
UID:213464@www.nak-stuttgart-fellbach.de
LOCATION:W-Beutelsbach
CATEGORIES:Gottesdienst,Weinstadt-Beutelsbach
X-ORGANIZER:
STATUS:CONFIRMED
CLASS:PUBLIC
DTSTART:20260514T073000Z
DTEND:20260514T073000Z
DTSTAMP:20260422T123322Z
CREATED:20201116T110555Z
LAST-MODIFIED:20260420T085733Z
END:VEVENT
BEGIN:VEVENT
SUMMARY:Gottesdienst durch Apostel Jürgen Loy - Wiederbezug und 100 Jah
 rfeier
DESCRIPTION:
UID:225320@www.nak-stuttgart-fellbach.de
LOCATION:W-Beutelsbach
CATEGORIES:Weinstadt-Beutelsbach,Gottesdienst
X-ORGANIZER:
STATUS:CONFIRMED
CLASS:PUBLIC
DTSTART:20260329T073000Z
DTEND:20260329T073000Z
DTSTAMP:20260422T123322Z
CREATED:20210426T164525Z
LAST-MODIFIED:20260219T142833Z
END:VEVENT
BEGIN:VEVENT
SUMMARY:Trauer-Gesprächskreis
DESCRIPTION:<p>Voranmeldung 0173/8528321 - Gerhard.Greiner@gmx.de</p>\n
UID:300791@www.nak-stuttgart-fellbach.de
LOCATION:Waiblingen
CATEGORIES:Bezirk (und alle Gemeinden)
X-ORGANIZER:
STATUS:CONFIRMED
CLASS:PUBLIC
DTSTART:20260528T150000Z
DTEND:20260528T150000Z
DTSTAMP:20260422T123322Z
CREATED:20240120T103751Z
LAST-MODIFIED:20260420T091651Z
END:VEVENT
BEGIN:VEVENT
SUMMARY:Trauer-Gesprächskreis
DESCRIPTION:<p>Um telefonische Voranmeldung unter der Telefon-Nr. 0173-8
 5 28 321 oder Gerhard.greiner@gmx.de wird gebeten.</p>\n
UID:300792@www.nak-stuttgart-fellbach.de
LOCATION:Waiblingen
CATEGORIES:Bezirk (und alle Gemeinden)
X-ORGANIZER:
STATUS:CONFIRMED
CLASS:PUBLIC
DTSTART:20260423T150000Z
DTEND:20260423T150000Z
DTSTAMP:20260422T123322Z
CREATED:20240120T103843Z
LAST-MODIFIED:20260320T093056Z
END:VEVENT
BEGIN:VEVENT
SUMMARY:Gottesdienst für Senioren der Bezirke Stuttgart/Fellbach und S-
 Bad Cannstatt
DESCRIPTION:
UID:311426@www.nak-stuttgart-fellbach.de
LOCATION:Fellbach
CATEGORIES:Senioren,Bezirk (und alle Gemeinden)
X-ORGANIZER:
STATUS:CONFIRMED
CLASS:PUBLIC
DTSTART:20260426T073000Z
DTEND:20260426T073000Z
DTSTAMP:20260422T123322Z
CREATED:20240521T140951Z
LAST-MODIFIED:20260320T101945Z
END:VEVENT
BEGIN:VEVENT
SUMMARY:Jugendchor: Generalprobe für den Jugendtag 2026
DESCRIPTION:
UID:338727@www.nak-stuttgart-fellbach.de
LOCATION:S-Süd
CATEGORIES:Bezirk (und alle Gemeinden)
X-ORGANIZER:
STATUS:CONFIRMED
CLASS:PUBLIC
DTSTART:20260502T080000Z
DTEND:20260502T080000Z
DTSTAMP:20260422T123322Z
CREATED:20250526T132227Z
LAST-MODIFIED:20260420T083513Z
END:VEVENT
BEGIN:VEVENT
SUMMARY:Gottesdienst durch Bezirksevangelist Bernd Schulz
DESCRIPTION:
UID:345535@www.nak-stuttgart-fellbach.de
LOCATION:S-Rohracker
CATEGORIES:Stuttgart-Rohracker,Gottesdienst
X-ORGANIZER:
STATUS:CONFIRMED
CLASS:PUBLIC
DTSTART:20260415T180000Z
DTEND:20260415T180000Z
DTSTAMP:20260422T123322Z
CREATED:20250828T083627Z
LAST-MODIFIED:20260320T083418Z
END:VEVENT
BEGIN:VEVENT
SUMMARY:Gottesdienst durch Bezirksevangelist Bernd Schulz
DESCRIPTION:
UID:350117@www.nak-stuttgart-fellbach.de
LOCATION:S-West
CATEGORIES:Gottesdienst,Stuttgart-West
X-ORGANIZER:
STATUS:CONFIRMED
CLASS:PUBLIC
DTSTART:20260520T180000Z
DTEND:20260520T180000Z
DTSTAMP:20260422T123322Z
CREATED:20251020T075048Z
LAST-MODIFIED:20260420T085050Z
END:VEVENT
BEGIN:VEVENT
SUMMARY:Gottesdienst durch Priester Daniel Vester
DESCRIPTION:
UID:352377@www.nak-stuttgart-fellbach.de
LOCATION:W-Endersbach
CATEGORIES:Gottesdienst,Weinstadt-Endersbach
X-ORGANIZER:
STATUS:CONFIRMED
CLASS:PUBLIC
DTSTART:20260422T180000Z
DTEND:20260422T180000Z
DTSTAMP:20260422T123322Z
CREATED:20251115T164258Z
LAST-MODIFIED:20260320T084215Z
END:VEVENT
BEGIN:VEVENT
SUMMARY:Gottesdienst durch Priester Daniel Vester
DESCRIPTION:
UID:354728@www.nak-stuttgart-fellbach.de
LOCATION:W-Beutelsbach
CATEGORIES:Weinstadt-Beutelsbach,Gottesdienst
X-ORGANIZER:
STATUS:CONFIRMED
CLASS:PUBLIC
DTSTART:20260325T190000Z
DTEND:20260325T190000Z
DTSTAMP:20260422T123322Z
CREATED:20251215T133316Z
LAST-MODIFIED:20260218T143913Z
END:VEVENT
BEGIN:VEVENT
SUMMARY:Gottesdienst durch Priester Daniel Vester
DESCRIPTION:
UID:357373@www.nak-stuttgart-fellbach.de
LOCATION:S-Ost
CATEGORIES:Stuttgart-Ost,Gottesdienst
X-ORGANIZER:
STATUS:CONFIRMED
CLASS:PUBLIC
DTSTART:20260415T180000Z
DTEND:20260415T180000Z
DTSTAMP:20260422T123322Z
CREATED:20260122T144805Z
LAST-MODIFIED:20260320T083921Z
END:VEVENT
BEGIN:VEVENT
SUMMARY:Oratorium Paulus mit Regionalchor Nürtingen und Kammerorchester
  Stuttgart
DESCRIPTION:
UID:359363@www.nak-stuttgart-fellbach.de
LOCATION: Reutlingen, Dürrstraße 15
CATEGORIES:Musik,Bezirk (und alle Gemeinden)
X-ORGANIZER:
STATUS:CONFIRMED
CLASS:PUBLIC
DTSTART:20260322T160000Z
DTEND:20260322T160000Z
DTSTAMP:20260422T123322Z
CREATED:20260219T142108Z
LAST-MODIFIED:20260219T143102Z
END:VEVENT
BEGIN:VEVENT
SUMMARY:Gottesdienst durch Priester Frank Geiger
DESCRIPTION:<p>Die Gemeinden&nbsp;&nbsp;Fellbach und S-West sind nach&nb
 sp;S-Ost eingeladen.</p>\n
UID:361483@www.nak-stuttgart-fellbach.de
LOCATION:S-Ost
CATEGORIES:Stuttgart-Ost,Gottesdienst,Fellbach,Stuttgart-West
X-ORGANIZER:
STATUS:CONFIRMED
CLASS:PUBLIC
DTSTART:20260426T073000Z
DTEND:20260426T073000Z
DTSTAMP:20260422T123322Z
CREATED:20260320T100936Z
LAST-MODIFIED:20260320T101247Z
END:VEVENT
BEGIN:VEVENT
SUMMARY:Gottesdienst durch Evangelist Dieter Wittlinger
DESCRIPTION:<p>Die Gemeinden&nbsp;&nbsp;S-Untertürkheim, S-Rohracker un
 d S-Sillenbuch sind nach&nbsp;O-Ruit eingeladen.</p>\n
UID:361484@www.nak-stuttgart-fellbach.de
LOCATION:O-Ruit
CATEGORIES:Stuttgart-Rohracker,Ostfildern-Ruit,Stuttgart-Sillenbuch,Stuttgart-Untertürkheim,Gottesdienst
X-ORGANIZER:
STATUS:CONFIRMED
CLASS:PUBLIC
DTSTART:20260426T073000Z
DTEND:20260426T073000Z
DTSTAMP:20260422T123322Z
CREATED:20260320T101307Z
LAST-MODIFIED:20260320T111419Z
END:VEVENT
BEGIN:VEVENT
SUMMARY:Kindergottesdienst Plus der Bezirke Stuttgart/Fellbach und S-Bad
  Cannstatt
DESCRIPTION:
UID:361485@www.nak-stuttgart-fellbach.de
LOCATION:Aichwald
CATEGORIES:Weinstadt-Endersbach,Ostfildern-Ruit,Kernen-Stetten i.R.,Stuttgart-West,Stuttgart-Rohracker,Bezirk (ohne Gemeinden),Fellbach,Stuttgart-Ost,Kinder,Stuttgart-Untertürkheim,Weinstadt-Beutelsbach,Stuttgart-Sillenbuch,Kernen-Rommelshausen
X-ORGANIZER:
STATUS:CONFIRMED
CLASS:PUBLIC
DTSTART:20260426T073000Z
DTEND:20260426T073000Z
DTSTAMP:20260422T123322Z
CREATED:20260320T102136Z
LAST-MODIFIED:20260320T102354Z
END:VEVENT
BEGIN:VEVENT
SUMMARY:Gottesdienst durch Bischof Matthias Grauer
DESCRIPTION:
UID:361487@www.nak-stuttgart-fellbach.de
LOCATION:S-West
CATEGORIES:Stuttgart-West,Gottesdienst
X-ORGANIZER:
STATUS:CONFIRMED
CLASS:PUBLIC
DTSTART:20260429T180000Z
DTEND:20260429T180000Z
DTSTAMP:20260422T123322Z
CREATED:20260320T103221Z
LAST-MODIFIED:20260320T103336Z
END:VEVENT
BEGIN:VEVENT
SUMMARY:Naturtag der Kinder, Bezirk Stuttgart/Fellbach und S-Bad Cannsta
 tt
DESCRIPTION:<p>Wir laufen mit dem Jäger durch den Wald</p>\n
UID:361491@www.nak-stuttgart-fellbach.de
LOCATION:Landgut Burg, 71384 Weinstadt, Parkplatz Grillstelle Karlstein
CATEGORIES:Bezirk (und alle Gemeinden),Kinder
X-ORGANIZER:
STATUS:CONFIRMED
CLASS:PUBLIC
DTSTART:20260418T070000Z
DTEND:20260418T070000Z
DTSTAMP:20260422T123322Z
CREATED:20260320T111925Z
LAST-MODIFIED:20260324T160259Z
END:VEVENT
BEGIN:VEVENT
SUMMARY:Gottesdienst zu Ostern
DESCRIPTION:<p>Bezirksapostel Michael Ehrich in der Kirche Kempten-Süd 
 - Livestream-Übertragung</p>\n
UID:361567@www.nak-stuttgart-fellbach.de
LOCATION:alle Übertragungskirchen
CATEGORIES:Kernen-Stetten i.R.,Ostfildern-Ruit,Weinstadt-Endersbach,Stuttgart-Rohracker,Stuttgart-West,Stuttgart-Ost,Fellbach,Bezirk (ohne Gemeinden),Gottesdienst,Kernen-Rommelshausen,Stuttgart-Sillenbuch,Weinstadt-Beutelsbach,Stuttgart-Untertürkheim
X-ORGANIZER:
STATUS:CONFIRMED
CLASS:PUBLIC
DTSTART:20260405T080000Z
DTEND:20260405T080000Z
DTSTAMP:20260422T123322Z
CREATED:20260321T075436Z
LAST-MODIFIED:20260321T144316Z
END:VEVENT
BEGIN:VEVENT
SUMMARY:Gottesdienst durch Bezirksevangelist Michael Feller
DESCRIPTION:
UID:361779@www.nak-stuttgart-fellbach.de
LOCATION:K-Stetten
CATEGORIES:Kernen-Stetten i.R.,Gottesdienst
X-ORGANIZER:
STATUS:CONFIRMED
CLASS:PUBLIC
DTSTART:20260419T073000Z
DTEND:20260419T073000Z
DTSTAMP:20260422T123322Z
CREATED:20260324T160956Z
LAST-MODIFIED:20260324T161252Z
END:VEVENT
BEGIN:VEVENT
SUMMARY:Gottesdienst durch Bezirksevangelist Bernd Schulz
DESCRIPTION:<p>&nbsp;</p>\n\n<p>&nbsp;</p>\n
UID:363898@www.nak-stuttgart-fellbach.de
LOCATION:W-Endersbach
CATEGORIES:Weinstadt-Endersbach,Gottesdienst
X-ORGANIZER:
STATUS:CONFIRMED
CLASS:PUBLIC
DTSTART:20260503T073000Z
DTEND:20260503T073000Z
DTSTAMP:20260422T123322Z
CREATED:20260420T083328Z
LAST-MODIFIED:20260420T083434Z
END:VEVENT
END:VCALENDAR
